BEGIN:VCALENDAR
VERSION:2.0
PRODID:-//107.5 Kool FM - ECPv6.15.17.1//NONSGML v1.0//EN
CALSCALE:GREGORIAN
METHOD:PUBLISH
X-WR-CALNAME:107.5 Kool FM
X-ORIGINAL-URL:https://1075koolfm.com
X-WR-CALDESC:Events for 107.5 Kool FM
REFRESH-INTERVAL;VALUE=DURATION:PT1H
X-Robots-Tag:noindex
X-PUBLISHED-TTL:PT1H
BEGIN:VTIMEZONE
TZID:America/Toronto
BEGIN:DAYLIGHT
TZOFFSETFROM:-0500
TZOFFSETTO:-0400
TZNAME:EDT
DTSTART:20250309T070000
END:DAYLIGHT
BEGIN:STANDARD
TZOFFSETFROM:-0400
TZOFFSETTO:-0500
TZNAME:EST
DTSTART:20251102T060000
END:STANDARD
BEGIN:DAYLIGHT
TZOFFSETFROM:-0500
TZOFFSETTO:-0400
TZNAME:EDT
DTSTART:20260308T070000
END:DAYLIGHT
BEGIN:STANDARD
TZOFFSETFROM:-0400
TZOFFSETTO:-0500
TZNAME:EST
DTSTART:20261101T060000
END:STANDARD
BEGIN:DAYLIGHT
TZOFFSETFROM:-0500
TZOFFSETTO:-0400
TZNAME:EDT
DTSTART:20270314T070000
END:DAYLIGHT
BEGIN:STANDARD
TZOFFSETFROM:-0400
TZOFFSETTO:-0500
TZNAME:EST
DTSTART:20271107T060000
END:STANDARD
END:VTIMEZONE
BEGIN:VEVENT
DTSTART;TZID=America/Toronto:20260321T100000
DTEND;TZID=America/Toronto:20260424T153000
DTSTAMP:20260419T122911
CREATED:20260408T204805Z
LAST-MODIFIED:20260408T204805Z
UID:10001608-1774087200-1777044600@1075koolfm.com
SUMMARY:Spring Guided Tours at Sainte-Marie among the Hurons
DESCRIPTION:Join an exclusive\, small-group tour of Sainte-Marie among the Hurons led by one of our most seasoned historical interpreters this spring—before we are officially open! \nTours include a pre-determined route through the historic site\, an introductory film as well as access to the Restaurant\, Museum and Gift Shop. \nFrom March 7th to April 5th\, on Saturdays and Sundays visitors to Sainte-Marie can take part in a Guided Tour at 10:15 a.m.\, 11:15 a.m.\, 1:15 p.m.\, and 2:15 p.m. \nFrom April 6th to April 24th\, guided tours will take place from Tuesdays to Fridays at 11:15 am and 2:15 pm. If you're visiting on Saturday or Sunday\, four time slots are available at 10:15 a.m.\, 11:15 a.m.\, 1:15 p.m.\, and 2:15 p.m. \nPlease ensure you arrive for your tour 15 minutes early to ensure you don’t miss anything. The Visitors Centre will open 30 minutes before each tour time. \nNote that most buildings will be open\, but some will still be undergoing curatorial maintenance in preparation for summer.
URL:https://1075koolfm.com/event/spring-guided-tours-at-sainte-marie-among-the-hurons/
LOCATION:Sainte Marie Among The Hurons\, 16164\, Highway 12\, Midland\, Ontario\, L4R 4K8\, Canada
CATEGORIES:Community
ATTACH;FMTTYPE=image/jpeg:https://1075koolfm.com/cobPub/uploads/2026/03/Spring-Guided-Tours-at-Sainte-Marie-among-the-Hurons.jpg
END:VEVENT
BEGIN:VEVENT
DTSTART;TZID=America/Toronto:20260403T104500
DTEND;TZID=America/Toronto:20260426T163000
DTSTAMP:20260419T122911
CREATED:20260408T205234Z
LAST-MODIFIED:20260408T205234Z
UID:10001609-1775213100-1777221000@1075koolfm.com
SUMMARY:Spring Guided Tours at Discovery Harbour
DESCRIPTION:Visit Discovery Harbour for a fascinating guided tour through 19th-century buildings\, shipwrecks\, and homesteads. \nThese spring tours are led by our most seasoned historical interpreters! Tours include a pre-determined route through this beautiful waterfront attraction\, as well as access to an indoor museum and gift shop. \nFrom April 3rd to 26th\, visitors to Discovery Harbour can take part in a guided tour on Fridays\, Saturdays and Sundays at 11:00 a.m.\, 1:00 p.m.\, 2:00 p.m. and 4:00 p.m. \nPlease ensure you arrive for your tour 15 minutes early to ensure you don’t miss anything. The Visitors Centre will open 30 minutes before each tour time. \nNote that most buildings will be open\, but some will still be undergoing curatorial maintenance in preparation for summer.
URL:https://1075koolfm.com/event/spring-guided-tours-at-discovery-harbour/
LOCATION:Discovery Harbour\, 93 Jury Drive\, Penetanguishene\, Ontario\, L9M 1G1\, Canada
CATEGORIES:Community
ATTACH;FMTTYPE=image/jpeg:https://1075koolfm.com/cobPub/uploads/2026/03/Spring-Guided-Tours-at-Discover-Harbour.jpg
END:VEVENT
BEGIN:VEVENT
DTSTART;TZID=America/Toronto:20260403T104500
DTEND;TZID=America/Toronto:20260426T171500
DTSTAMP:20260419T122911
CREATED:20260408T205759Z
LAST-MODIFIED:20260408T210044Z
UID:10001610-1775213100-1777223700@1075koolfm.com
SUMMARY:Spring Guided Tours at Nancy Island Historic Site
DESCRIPTION:Visit Nancy Island Historic Site for a fascinating guided tour of this attraction in the heart of Wasaga Beach\, commemorating a pivotal moment in the war of 1812. \nThese spring tours are led by our most seasoned historical interpreters! Tours include a pre-determined route through the historic site\, as well as access to the indoor museum and gift shop. \nFrom April 3rd to April 26th on Fridays\, Saturdays and Sundays visitors to Nancy Island Historic Site can take part in a guided tour at 10:30 a.m.\, 12:30 p.m.\, 1:30 p.m. and 3:00 p.m. \nPlease ensure you arrive for your tour 15 minutes early to ensure you don’t miss anything. The Visitors Centre will open 30 minutes before each tour time. \nNote that most buildings will be open\, but some will still be undergoing curatorial maintenance in preparation for summer.
URL:https://1075koolfm.com/event/spring-guided-tours-at-nancy-island-historic-site/
LOCATION:Nancy Island Historic Site\, 119 Mosley Street\, Wasaga Beach\, Ontario\, L9Z 2X1\, Canada
CATEGORIES:Community
ATTACH;FMTTYPE=image/jpeg:https://1075koolfm.com/cobPub/uploads/2026/03/Spring-Guided-Tours-at-Nancy-Island.jpg
END:VEVENT
BEGIN:VEVENT
DTSTART;TZID=America/Toronto:20260419T130000
DTEND;TZID=America/Toronto:20260419T130000
DTSTAMP:20260419T122911
CREATED:20260408T204043Z
LAST-MODIFIED:20260408T204104Z
UID:10001607-1776603600-1776603600@1075koolfm.com
SUMMARY:Hat Trick for SMHF
DESCRIPTION:The community is invited to cheer on local leaders and supporters at the Hat Trick for Stevenson Memorial Hospital Foundation (SMHF) on Sunday\, April 19\, 2026\, at the New Tecumseth Recreation Centre. Game time is 1:00 p.m. and tickets are just $10. All proceeds will go directly to the Stevenson Memorial Hospital Foundation (SMHF) in support of the hospital’s commitment to providing top‑tier healthcare to our growing community. \nThis friendly\, family‑focused hockey game will feature community teams\, including members of our Emergency Services team\, and special guests—all hitting the ice to raise funds and awareness for the vital programs\, equipment\, and infrastructure that help keep care close to home. \nGrab your $10 tickets\, wear your team colours\, and bring the whole family to the rink on April 19!
URL:https://1075koolfm.com/event/hat-trick-for-smhf/
LOCATION:New Tecumseth Recreation Centre\, 7300 Industrial Parkway\, Alliston\, Ontario\, L0G 1W0\, Canada
CATEGORIES:Community
ATTACH;FMTTYPE=image/jpeg:https://1075koolfm.com/cobPub/uploads/2026/04/Hat-Trick-for-SMHF-At-New-Tecumseth-Recreation-Centre.jpg
END:VEVENT
END:VCALENDAR